Package: dce Version: 1.14.0 Command: /Library/Frameworks/R.framework/Resources/bin/R CMD INSTALL dce StartedAt: 2025-02-03 17:56:23 -0500 (Mon, 03 Feb 2025) EndedAt: 2025-02-03 17:57:02 -0500 (Mon, 03 Feb 2025) EllapsedTime: 38.3 seconds RetCode: 0 Status: OK