Package: dce Version: 1.14.0 Command: chmod a+r dce -R && F:\biocbuild\bbs-3.20-bioc\R\bin\R.exe CMD build --keep-empty-dirs --no-resave-data dce StartedAt: 2025-02-03 18:31:10 -0500 (Mon, 03 Feb 2025) EndedAt: 2025-02-03 18:34:38 -0500 (Mon, 03 Feb 2025) EllapsedTime: 208.1 seconds RetCode: 1 Status: ERROR PackageFile: None PackageFileSize: NA