Package: dce Version: 1.14.0 Command: /home/biocbuild/R/R/bin/R CMD build --keep-empty-dirs --no-resave-data dce StartedAt: 2025-02-03 23:01:56 -0000 (Mon, 03 Feb 2025) EndedAt: 2025-02-03 23:04:37 -0000 (Mon, 03 Feb 2025) EllapsedTime: 161.1 seconds RetCode: 1 Status: ERROR PackageFile: None PackageFileSize: NA