Package: dce Version: 1.13.0 Command: /home/biocbuild/bbs-3.20-bioc/R/bin/R CMD check --install=check:dce.install-out.txt --library=/home/biocbuild/bbs-3.20-bioc/R/site-library --timings dce_1.13.0.tar.gz StartedAt: 2024-10-28 00:53:20 -0400 (Mon, 28 Oct 2024) EndedAt: 2024-10-28 01:01:10 -0400 (Mon, 28 Oct 2024) EllapsedTime: 470.4 seconds RetCode: 0 Status: OK CheckDir: dce.Rcheck Warnings: 0