Package: ddCt Version: 1.62.0 Command: /Library/Frameworks/R.framework/Resources/bin/R CMD INSTALL ddCt StartedAt: 2025-02-03 15:21:56 -0500 (Mon, 03 Feb 2025) EndedAt: 2025-02-03 15:22:02 -0500 (Mon, 03 Feb 2025) EllapsedTime: 6.7 seconds RetCode: 0 Status: OK