Package: ddCt Version: 1.62.0 Command: /Library/Frameworks/R.framework/Resources/bin/R CMD build --keep-empty-dirs --no-resave-data ddCt StartedAt: 2025-02-03 18:18:49 -0500 (Mon, 03 Feb 2025) EndedAt: 2025-02-03 18:19:36 -0500 (Mon, 03 Feb 2025) EllapsedTime: 46.9 seconds RetCode: 0 Status: OK PackageFile: ddCt_1.62.0.tar.gz PackageFileSize: 780.9 KiB