Package: ddCt Version: 1.62.0 Command: /Library/Frameworks/R.framework/Resources/bin/R CMD check --install=check:ddCt.install-out.txt --library=/Library/Frameworks/R.framework/Resources/library --no-vignettes --timings ddCt_1.62.0.tar.gz StartedAt: 2025-02-04 02:19:30 -0500 (Tue, 04 Feb 2025) EndedAt: 2025-02-04 02:21:00 -0500 (Tue, 04 Feb 2025) EllapsedTime: 90.1 seconds RetCode: 0 Status: WARNINGS CheckDir: ddCt.Rcheck Warnings: 1