Package: ddCt Version: 1.62.0 Command: /Library/Frameworks/R.framework/Resources/bin/R CMD INSTALL ddCt StartedAt: 2025-02-03 15:18:24 -0500 (Mon, 03 Feb 2025) EndedAt: 2025-02-03 15:18:50 -0500 (Mon, 03 Feb 2025) EllapsedTime: 26.3 seconds RetCode: 0 Status: OK