Package: ddCt Version: 1.62.0 Command: /home/biocbuild/bbs-3.20-bioc/R/bin/R CMD INSTALL ddCt StartedAt: 2025-02-03 15:17:39 -0500 (Mon, 03 Feb 2025) EndedAt: 2025-02-03 15:17:58 -0500 (Mon, 03 Feb 2025) EllapsedTime: 19.1 seconds RetCode: 0 Status: OK