Package: dearseq
Version: 1.17.0
Command: chmod a+r dearseq -R && C:\Users\biocbuild\bbs-3.20-bioc\R\bin\R.exe CMD build --keep-empty-dirs --no-resave-data dearseq
StartedAt: 2024-07-15 17:26:45 -0400 (Mon, 15 Jul 2024)
EndedAt: 2024-07-15 17:35:41 -0400 (Mon, 15 Jul 2024)
EllapsedTime: 535.9 seconds
RetCode: 0
Status: OK
PackageFile: dearseq_1.17.0.tar.gz
PackageFileSize: 506.9 <A href="http://en.wikipedia.org/wiki/KiB" target="_blank">KiB</A>