Package: dearseq Version: 1.18.0 Command: rm -rf dearseq.buildbin-libdir && mkdir dearseq.buildbin-libdir && F:\biocbuild\bbs-3.20-bioc\R\bin\R.exe CMD INSTALL --build --library=dearseq.buildbin-libdir dearseq_1.18.0.tar.gz StartedAt: 2025-02-04 08:19:59 -0500 (Tue, 04 Feb 2025) EndedAt: 2025-02-04 08:20:18 -0500 (Tue, 04 Feb 2025) EllapsedTime: 18.8 seconds RetCode: 0 Status: OK PackageFile: dearseq_1.18.0.zip PackageFileSize: 644.4 KiB