Package: dearseq Version: 1.18.0 Command: chmod a+r dearseq -R && F:\biocbuild\bbs-3.20-bioc\R\bin\R.exe CMD build --keep-empty-dirs --no-resave-data dearseq StartedAt: 2025-02-03 18:31:49 -0500 (Mon, 03 Feb 2025) EndedAt: 2025-02-03 18:42:01 -0500 (Mon, 03 Feb 2025) EllapsedTime: 611.8 seconds RetCode: 0 Status: OK PackageFile: dearseq_1.18.0.tar.gz PackageFileSize: 506.8 KiB