Package: dearseq Version: 1.18.0 Command: F:\biocbuild\bbs-3.20-bioc\R\bin\R.exe CMD check --no-multiarch --install=check:dearseq.install-out.txt --library=F:\biocbuild\bbs-3.20-bioc\R\library --no-vignettes --timings dearseq_1.18.0.tar.gz StartedAt: 2025-02-04 00:56:35 -0500 (Tue, 04 Feb 2025) EndedAt: 2025-02-04 00:58:10 -0500 (Tue, 04 Feb 2025) EllapsedTime: 95.2 seconds RetCode: 0 Status: OK CheckDir: dearseq.Rcheck Warnings: 0