Package: dearseq Version: 1.18.0 Command: /home/biocbuild/R/R/bin/R CMD INSTALL dearseq StartedAt: 2025-02-03 21:14:02 -0000 (Mon, 03 Feb 2025) EndedAt: 2025-02-03 21:14:13 -0000 (Mon, 03 Feb 2025) EllapsedTime: 11.0 seconds RetCode: 0 Status: OK