Package: debCAM Version: 1.24.0 Command: /Library/Frameworks/R.framework/Resources/bin/R CMD check --install=check:debCAM.install-out.txt --library=/Library/Frameworks/R.framework/Resources/library --no-vignettes --timings debCAM_1.24.0.tar.gz StartedAt: 2025-02-04 17:19:01 -0500 (Tue, 04 Feb 2025) EndedAt: 2025-02-04 17:22:44 -0500 (Tue, 04 Feb 2025) EllapsedTime: 223.5 seconds RetCode: 0 Status: OK CheckDir: debCAM.Rcheck Warnings: 0