Package: debCAM Version: 1.24.0 Command: /Library/Frameworks/R.framework/Resources/bin/R CMD build --keep-empty-dirs --no-resave-data debCAM StartedAt: 2025-02-03 18:19:34 -0500 (Mon, 03 Feb 2025) EndedAt: 2025-02-03 18:33:28 -0500 (Mon, 03 Feb 2025) EllapsedTime: 834.0 seconds RetCode: 0 Status: OK PackageFile: debCAM_1.24.0.tar.gz PackageFileSize: 3.73 MiB