Package: debCAM Version: 1.24.0 Command: /home/biocbuild/bbs-3.20-bioc/R/bin/R CMD build --keep-empty-dirs --no-resave-data --md5 debCAM StartedAt: 2025-02-03 17:05:52 -0500 (Mon, 03 Feb 2025) EndedAt: 2025-02-03 17:10:57 -0500 (Mon, 03 Feb 2025) EllapsedTime: 304.3 seconds RetCode: 1 Status: ERROR PackageFile: None PackageFileSize: NA