Package: debCAM
Version: 1.23.0
Command: F:\biocbuild\bbs-3.20-bioc\R\bin\R.exe CMD check --no-multiarch --install=check:debCAM.install-out.txt --library=F:\biocbuild\bbs-3.20-bioc\R\library --no-vignettes --timings debCAM_1.23.0.tar.gz
StartedAt: 2024-06-10 01:41:01 -0400 (Mon, 10 Jun 2024)
EndedAt: 2024-06-10 01:45:30 -0400 (Mon, 10 Jun 2024)
EllapsedTime: 269.2 seconds
RetCode: 0
Status: OK
CheckDir: debCAM.Rcheck
Warnings: 0