Package: debrowser Version: 1.34.0 Command: /home/biocbuild/bbs-3.20-bioc/R/bin/R CMD INSTALL debrowser StartedAt: 2025-02-03 16:00:02 -0500 (Mon, 03 Feb 2025) EndedAt: 2025-02-03 16:00:50 -0500 (Mon, 03 Feb 2025) EllapsedTime: 47.8 seconds RetCode: 0 Status: OK