Package: decompTumor2Sig Version: 2.22.0 Command: /Library/Frameworks/R.framework/Resources/bin/R CMD build --keep-empty-dirs --no-resave-data decompTumor2Sig StartedAt: 2025-02-03 22:02:50 -0500 (Mon, 03 Feb 2025) EndedAt: 2025-02-03 22:42:50 -0500 (Mon, 03 Feb 2025) EllapsedTime: 2400.2 seconds RetCode: None Status: TIMEOUT PackageFile: None PackageFileSize: NA