Package: decompTumor2Sig Version: 2.22.0 Command: /Library/Frameworks/R.framework/Resources/bin/R CMD INSTALL decompTumor2Sig StartedAt: 2025-02-03 16:08:19 -0500 (Mon, 03 Feb 2025) EndedAt: 2025-02-03 16:09:08 -0500 (Mon, 03 Feb 2025) EllapsedTime: 49.0 seconds RetCode: 0 Status: OK