Package: decompTumor2Sig Version: 2.22.0 Command: /Library/Frameworks/R.framework/Resources/bin/R CMD INSTALL decompTumor2Sig StartedAt: 2024-11-08 15:29:30 -0500 (Fri, 08 Nov 2024) EndedAt: 2024-11-08 15:29:45 -0500 (Fri, 08 Nov 2024) EllapsedTime: 15.6 seconds RetCode: 0 Status: OK