Package: decompTumor2Sig Version: 2.22.0 Command: /home/biocbuild/bbs-3.20-bioc/R/bin/R CMD INSTALL decompTumor2Sig StartedAt: 2025-02-03 15:37:22 -0500 (Mon, 03 Feb 2025) EndedAt: 2025-02-03 15:38:04 -0500 (Mon, 03 Feb 2025) EllapsedTime: 42.0 seconds RetCode: 0 Status: OK