Package: decompTumor2Sig Version: 2.22.0 Command: chmod a+r decompTumor2Sig -R && F:\biocbuild\bbs-3.20-bioc\R\bin\R.exe CMD build --keep-empty-dirs --no-resave-data decompTumor2Sig StartedAt: 2025-02-03 18:32:16 -0500 (Mon, 03 Feb 2025) EndedAt: 2025-02-03 18:40:27 -0500 (Mon, 03 Feb 2025) EllapsedTime: 490.7 seconds RetCode: 0 Status: OK PackageFile: decompTumor2Sig_2.22.0.tar.gz PackageFileSize: 2.387 MiB