Package: decompTumor2Sig Version: 2.22.0 Command: F:\biocbuild\bbs-3.20-bioc\R\bin\R.exe CMD INSTALL decompTumor2Sig StartedAt: 2025-02-03 16:56:42 -0500 (Mon, 03 Feb 2025) EndedAt: 2025-02-03 16:58:34 -0500 (Mon, 03 Feb 2025) EllapsedTime: 111.0 seconds RetCode: 0 Status: OK