Package: decompTumor2Sig
Version: 2.22.0
Command: /home/biocbuild/bbs-3.20-bioc/R/bin/R CMD INSTALL decompTumor2Sig
StartedAt: 2024-11-19 16:12:14 -0500 (Tue, 19 Nov 2024)
EndedAt: 2024-11-19 16:12:55 -0500 (Tue, 19 Nov 2024)
EllapsedTime: 41.4 seconds
RetCode: 0
Status: OK