Package: decontX Version: 1.4.0 Command: /Library/Frameworks/R.framework/Resources/bin/R CMD build --keep-empty-dirs --no-resave-data decontX StartedAt: 2025-01-30 22:12:56 -0500 (Thu, 30 Jan 2025) EndedAt: 2025-01-30 22:12:57 -0500 (Thu, 30 Jan 2025) EllapsedTime: 1.2 seconds RetCode: 1 Status: ERROR PackageFile: None PackageFileSize: NA