Package: decontX Version: 1.4.0 Command: /Library/Frameworks/R.framework/Resources/bin/R CMD INSTALL decontX StartedAt: 2025-01-30 18:27:33 -0500 (Thu, 30 Jan 2025) EndedAt: 2025-01-30 18:27:33 -0500 (Thu, 30 Jan 2025) EllapsedTime: 0.4 seconds RetCode: 1 Status: ERROR