Package: decontX Version: 1.4.0 Command: /Library/Frameworks/R.framework/Resources/bin/R CMD build --keep-empty-dirs --no-resave-data decontX StartedAt: 2025-01-30 18:26:50 -0500 (Thu, 30 Jan 2025) EndedAt: 2025-01-30 18:26:55 -0500 (Thu, 30 Jan 2025) EllapsedTime: 4.5 seconds RetCode: 1 Status: ERROR PackageFile: None PackageFileSize: NA