Package: decontX Version: 1.4.0 Command: chmod a+r decontX -R && F:\biocbuild\bbs-3.20-bioc\R\bin\R.exe CMD build --keep-empty-dirs --no-resave-data decontX StartedAt: 2025-01-30 18:18:24 -0500 (Thu, 30 Jan 2025) EndedAt: 2025-01-30 18:18:27 -0500 (Thu, 30 Jan 2025) EllapsedTime: 3.0 seconds RetCode: 1 Status: ERROR PackageFile: None PackageFileSize: NA