Package: decontX Version: 1.4.0 Command: F:\biocbuild\bbs-3.20-bioc\R\bin\R.exe CMD INSTALL decontX StartedAt: 2025-01-30 17:02:10 -0500 (Thu, 30 Jan 2025) EndedAt: 2025-01-30 17:02:11 -0500 (Thu, 30 Jan 2025) EllapsedTime: 0.5 seconds RetCode: 1 Status: ERROR