Package: deconvR Version: 1.12.0 Command: /Library/Frameworks/R.framework/Resources/bin/R CMD build --keep-empty-dirs --no-resave-data deconvR StartedAt: 2025-02-17 18:28:48 -0500 (Mon, 17 Feb 2025) EndedAt: 2025-02-17 18:34:07 -0500 (Mon, 17 Feb 2025) EllapsedTime: 319.0 seconds RetCode: 0 Status: OK PackageFile: deconvR_1.12.0.tar.gz PackageFileSize: 3.789 <A href="http://en.wikipedia.org/wiki/MiB" target="_blank">MiB</A>