Package: deconvR Version: 1.12.0 Command: rm -rf deconvR.buildbin-libdir && mkdir deconvR.buildbin-libdir && F:\biocbuild\bbs-3.20-bioc\R\bin\R.exe CMD INSTALL --build --library=deconvR.buildbin-libdir deconvR_1.12.0.tar.gz StartedAt: 2025-02-04 08:20:29 -0500 (Tue, 04 Feb 2025) EndedAt: 2025-02-04 08:21:26 -0500 (Tue, 04 Feb 2025) EllapsedTime: 56.3 seconds RetCode: 0 Status: OK PackageFile: deconvR_1.12.0.zip PackageFileSize: 3.817 MiB