Package: deconvR Version: 1.12.0 Command: /home/biocbuild/R/R/bin/R CMD build --keep-empty-dirs --no-resave-data deconvR StartedAt: 2025-02-03 23:03:03 -0000 (Mon, 03 Feb 2025) EndedAt: 2025-02-03 23:05:25 -0000 (Mon, 03 Feb 2025) EllapsedTime: 142.0 seconds RetCode: 0 Status: OK PackageFile: deconvR_1.12.0.tar.gz PackageFileSize: 3.854 MiB