Package: deconvR Version: 1.12.0 Command: /home/biocbuild/R/R/bin/R CMD INSTALL deconvR StartedAt: 2025-02-03 21:19:56 -0000 (Mon, 03 Feb 2025) EndedAt: 2025-02-03 21:20:57 -0000 (Mon, 03 Feb 2025) EllapsedTime: 61.6 seconds RetCode: 0 Status: OK