Package: decoupleR Version: 2.12.0 Command: /Library/Frameworks/R.framework/Resources/bin/R CMD INSTALL decoupleR StartedAt: 2025-02-03 15:55:08 -0500 (Mon, 03 Feb 2025) EndedAt: 2025-02-03 15:55:17 -0500 (Mon, 03 Feb 2025) EllapsedTime: 8.8 seconds RetCode: 0 Status: OK