Package: decoupleR Version: 2.12.0 Command: /home/biocbuild/R/R/bin/R CMD build --keep-empty-dirs --no-resave-data decoupleR StartedAt: 2025-02-03 23:03:27 -0000 (Mon, 03 Feb 2025) EndedAt: 2025-02-03 23:07:16 -0000 (Mon, 03 Feb 2025) EllapsedTime: 229.1 seconds RetCode: 1 Status: ERROR PackageFile: None PackageFileSize: NA