Package: demuxSNP Version: 1.4.0 Command: rm -rf demuxSNP.buildbin-libdir && mkdir demuxSNP.buildbin-libdir && /Users/biocbuild/BBS/utils/build-universal.sh demuxSNP_1.4.0.tar.gz /Library/Frameworks/R.framework/Resources/bin/R demuxSNP.buildbin-libdir StartedAt: 2025-02-04 12:48:52 -0500 (Tue, 04 Feb 2025) EndedAt: 2025-02-04 12:50:28 -0500 (Tue, 04 Feb 2025) EllapsedTime: 95.7 seconds RetCode: 0 Status: OK PackageFile: demuxSNP_1.4.0.tgz PackageFileSize: 1.967 MiB