Package: demuxSNP Version: 1.4.0 Command: /Library/Frameworks/R.framework/Resources/bin/R CMD build --keep-empty-dirs --no-resave-data demuxSNP StartedAt: 2025-02-03 18:25:34 -0500 (Mon, 03 Feb 2025) EndedAt: 2025-02-03 18:30:28 -0500 (Mon, 03 Feb 2025) EllapsedTime: 293.9 seconds RetCode: 0 Status: OK PackageFile: demuxSNP_1.4.0.tar.gz PackageFileSize: 1.977 MiB