Package: demuxSNP Version: 1.4.0 Command: /Library/Frameworks/R.framework/Resources/bin/R CMD INSTALL demuxSNP StartedAt: 2025-02-03 15:48:28 -0500 (Mon, 03 Feb 2025) EndedAt: 2025-02-03 15:49:59 -0500 (Mon, 03 Feb 2025) EllapsedTime: 91.0 seconds RetCode: 0 Status: OK