Package: demuxSNP Version: 1.4.0 Command: /home/biocbuild/bbs-3.20-bioc/R/bin/R CMD INSTALL demuxSNP StartedAt: 2025-02-03 15:34:05 -0500 (Mon, 03 Feb 2025) EndedAt: 2025-02-03 15:34:52 -0500 (Mon, 03 Feb 2025) EllapsedTime: 47.3 seconds RetCode: 0 Status: OK