Package: demuxSNP Version: 1.4.0 Command: chmod a+r demuxSNP -R && F:\biocbuild\bbs-3.20-bioc\R\bin\R.exe CMD build --keep-empty-dirs --no-resave-data demuxSNP StartedAt: 2025-02-03 18:37:36 -0500 (Mon, 03 Feb 2025) EndedAt: 2025-02-03 18:40:45 -0500 (Mon, 03 Feb 2025) EllapsedTime: 189.8 seconds RetCode: 0 Status: OK PackageFile: demuxSNP_1.4.0.tar.gz PackageFileSize: 1.595 MiB