Package: demuxSNP
Version: 1.4.0
Command: /home/biocbuild/R/R/bin/R CMD check --install=check:demuxSNP.install-out.txt --library=/home/biocbuild/R/R/site-library --no-vignettes --timings demuxSNP_1.4.0.tar.gz
StartedAt: 2025-02-18 05:54:48 -0000 (Tue, 18 Feb 2025)
EndedAt: 2025-02-18 06:05:51 -0000 (Tue, 18 Feb 2025)
EllapsedTime: 662.7 seconds
RetCode: 0
Status: OK
CheckDir: demuxSNP.Rcheck
Warnings: 0