Package: demuxmix Version: 1.8.0 Command: /Library/Frameworks/R.framework/Resources/bin/R CMD INSTALL demuxmix StartedAt: 2025-01-30 15:31:19 -0500 (Thu, 30 Jan 2025) EndedAt: 2025-01-30 15:31:32 -0500 (Thu, 30 Jan 2025) EllapsedTime: 12.2 seconds RetCode: 0 Status: OK