Package: demuxmix Version: 1.8.0 Command: /Library/Frameworks/R.framework/Resources/bin/R CMD build --keep-empty-dirs --no-resave-data demuxmix StartedAt: 2025-01-30 18:32:21 -0500 (Thu, 30 Jan 2025) EndedAt: 2025-01-30 18:33:56 -0500 (Thu, 30 Jan 2025) EllapsedTime: 95.1 seconds RetCode: 0 Status: OK PackageFile: demuxmix_1.8.0.tar.gz PackageFileSize: 1.42 MiB