Package: demuxmix Version: 1.8.0 Command: /home/biocbuild/bbs-3.20-bioc/R/bin/R CMD INSTALL demuxmix StartedAt: 2025-01-30 15:10:29 -0500 (Thu, 30 Jan 2025) EndedAt: 2025-01-30 15:10:39 -0500 (Thu, 30 Jan 2025) EllapsedTime: 9.7 seconds RetCode: 0 Status: OK