Package: demuxmix Version: 1.8.0 Command: rm -rf demuxmix.buildbin-libdir && mkdir demuxmix.buildbin-libdir && F:\biocbuild\bbs-3.20-bioc\R\bin\R.exe CMD INSTALL --build --library=demuxmix.buildbin-libdir demuxmix_1.8.0.tar.gz StartedAt: 2025-02-04 08:21:36 -0500 (Tue, 04 Feb 2025) EndedAt: 2025-02-04 08:22:02 -0500 (Tue, 04 Feb 2025) EllapsedTime: 25.8 seconds RetCode: 0 Status: OK PackageFile: demuxmix_1.8.0.zip PackageFileSize: 1.004 MiB