Package: demuxmix Version: 1.8.0 Command: chmod a+r demuxmix -R && F:\biocbuild\bbs-3.20-bioc\R\bin\R.exe CMD build --keep-empty-dirs --no-resave-data demuxmix StartedAt: 2025-02-03 18:37:29 -0500 (Mon, 03 Feb 2025) EndedAt: 2025-02-03 18:38:33 -0500 (Mon, 03 Feb 2025) EllapsedTime: 63.8 seconds RetCode: 0 Status: OK PackageFile: demuxmix_1.8.0.tar.gz PackageFileSize: 700.8 KiB