Package: demuxmix Version: 1.8.0 Command: F:\biocbuild\bbs-3.20-bioc\R\bin\R.exe CMD INSTALL demuxmix StartedAt: 2025-01-30 15:31:21 -0500 (Thu, 30 Jan 2025) EndedAt: 2025-01-30 15:31:49 -0500 (Thu, 30 Jan 2025) EllapsedTime: 27.9 seconds RetCode: 0 Status: OK