Package: demuxmix Version: 1.8.0 Command: /home/biocbuild/R/R/bin/R CMD check --install=check:demuxmix.install-out.txt --library=/home/biocbuild/R/R/site-library --no-vignettes --timings demuxmix_1.8.0.tar.gz StartedAt: 2025-01-31 05:36:18 -0000 (Fri, 31 Jan 2025) EndedAt: 2025-01-31 05:37:26 -0000 (Fri, 31 Jan 2025) EllapsedTime: 68.1 seconds RetCode: 0 Status: OK CheckDir: demuxmix.Rcheck Warnings: 0